BEGIN:VCALENDAR
VERSION:2.0
PRODID:-//Musée de la musique - Céret - ECPv6.15.20//NONSGML v1.0//EN
CALSCALE:GREGORIAN
METHOD:PUBLISH
X-ORIGINAL-URL:https://music-ceret.com
X-WR-CALDESC:Évènements pour Musée de la musique - Céret
REFRESH-INTERVAL;VALUE=DURATION:PT1H
X-Robots-Tag:noindex
X-PUBLISHED-TTL:PT1H
BEGIN:VTIMEZONE
TZID:Europe/Paris
BEGIN:DAYLIGHT
TZOFFSETFROM:+0100
TZOFFSETTO:+0200
TZNAME:CEST
DTSTART:20240331T010000
END:DAYLIGHT
BEGIN:STANDARD
TZOFFSETFROM:+0200
TZOFFSETTO:+0100
TZNAME:CET
DTSTART:20241027T010000
END:STANDARD
BEGIN:DAYLIGHT
TZOFFSETFROM:+0100
TZOFFSETTO:+0200
TZNAME:CEST
DTSTART:20250330T010000
END:DAYLIGHT
BEGIN:STANDARD
TZOFFSETFROM:+0200
TZOFFSETTO:+0100
TZNAME:CET
DTSTART:20251026T010000
END:STANDARD
BEGIN:DAYLIGHT
TZOFFSETFROM:+0100
TZOFFSETTO:+0200
TZNAME:CEST
DTSTART:20260329T010000
END:DAYLIGHT
BEGIN:STANDARD
TZOFFSETFROM:+0200
TZOFFSETTO:+0100
TZNAME:CET
DTSTART:20261025T010000
END:STANDARD
BEGIN:DAYLIGHT
TZOFFSETFROM:+0100
TZOFFSETTO:+0200
TZNAME:CEST
DTSTART:20270328T010000
END:DAYLIGHT
BEGIN:STANDARD
TZOFFSETFROM:+0200
TZOFFSETTO:+0100
TZNAME:CET
DTSTART:20271031T010000
END:STANDARD
END:VTIMEZONE
BEGIN:VEVENT
DTSTART;VALUE=DATE:20251221
DTEND;VALUE=DATE:20260120
DTSTAMP:20260424T051420
CREATED:20241224T101112Z
LAST-MODIFIED:20251222T112337Z
UID:2752-1766275200-1768867199@music-ceret.com
SUMMARY:Fermeture du Musée
DESCRIPTION:Le musée est fermé pour l’installation de la nouvelle exposition temporaire du 21 décembre au 19 janvier 2026 inclus.\nRendez-vous MARDI 20 JANVIER 2026. \nA noter les services administratifs seront joignables à partir du 5 janvier aux heures de bureau. \nBonnes fêtes !
URL:https://music-ceret.com/evenement/fermeture-du-musee-2/
LOCATION:Musée de la Musique\, 14 rue Rameil\, Céret\, 66400\, France
CATEGORIES:Exposition temporaire,Information
ATTACH;FMTTYPE=image/jpeg:https://music-ceret.com/musicnou/wp-content/uploads/2024/12/avis-fermeture-NOEL-2026-web.jpg
END:VEVENT
END:VCALENDAR