BEGIN:VCALENDAR
VERSION:2.0
PRODID:-//Musée de la musique - Céret - ECPv6.15.20//NONSGML v1.0//EN
CALSCALE:GREGORIAN
METHOD:PUBLISH
X-WR-CALNAME:Musée de la musique - Céret
X-ORIGINAL-URL:https://music-ceret.com
X-WR-CALDESC:Évènements pour Musée de la musique - Céret
REFRESH-INTERVAL;VALUE=DURATION:PT1H
X-Robots-Tag:noindex
X-PUBLISHED-TTL:PT1H
BEGIN:VTIMEZONE
TZID:Europe/Paris
BEGIN:DAYLIGHT
TZOFFSETFROM:+0100
TZOFFSETTO:+0200
TZNAME:CEST
DTSTART:20250330T010000
END:DAYLIGHT
BEGIN:STANDARD
TZOFFSETFROM:+0200
TZOFFSETTO:+0100
TZNAME:CET
DTSTART:20251026T010000
END:STANDARD
BEGIN:DAYLIGHT
TZOFFSETFROM:+0100
TZOFFSETTO:+0200
TZNAME:CEST
DTSTART:20260329T010000
END:DAYLIGHT
BEGIN:STANDARD
TZOFFSETFROM:+0200
TZOFFSETTO:+0100
TZNAME:CET
DTSTART:20261025T010000
END:STANDARD
BEGIN:DAYLIGHT
TZOFFSETFROM:+0100
TZOFFSETTO:+0200
TZNAME:CEST
DTSTART:20270328T010000
END:DAYLIGHT
BEGIN:STANDARD
TZOFFSETFROM:+0200
TZOFFSETTO:+0100
TZNAME:CET
DTSTART:20271031T010000
END:STANDARD
END:VTIMEZONE
BEGIN:VEVENT
DTSTART;TZID=Europe/Paris:20260328T160000
DTEND;TZID=Europe/Paris:20260328T170000
DTSTAMP:20260424T153624
CREATED:20260326T082716Z
LAST-MODIFIED:20260326T082716Z
UID:3062-1774713600-1774717200@music-ceret.com
SUMMARY:PRINTEMPS DES POÈTES
DESCRIPTION:L’association Pas de porte propose un rendez-vous poétique avec Michaël Glück à Céret à l’occasion du Printemps des Poètes le samedi 28 mars à partir de 16 heures au Musée de la musique de Céret. \nLa lecture sera suivie d’un temps convivial d’échanges et de dédicaces à 17 h à la librairie Le cheval dans l’arbre\, partenaire de l’événement.
URL:https://music-ceret.com/evenement/printemps-des-poetes/
LOCATION:Forum – Musée de la musique\, 14 rue Pierre Rameil\, Céret\, 66400\, France
CATEGORIES:Conférence,Evénement
ATTACH;FMTTYPE=image/webp:https://music-ceret.com/musicnou/wp-content/uploads/2026/03/Michael_Gluck.jpg.webp
END:VEVENT
END:VCALENDAR